Workbook

Sheet Search strategy
A1: Product name | C1: Zephyr
A2: Update number | C2: 30
A3: Software version | C3: 30.0
A4: Data update | C4: 17/06/2017 (n° 30187749)
A5: Username | C5: Universität Bayreuth-5355
A6: Export date | C6: 18/06/2017
A7: Cut off date | C7: 31/03
D8: Step result | E8: Search result
A9: 1. | B9: Time period: Last 5 years (completed-confirmed) | D9: 417,623 | E9: 417,623
A10: 2. | B10: Listed/Unlisted/Delisted companies: listed acquiror | D10: 291,648 | E10: 52,968
A11: 3. | B11: Percentage of stake: Percentage of initial stake (max: 49.9 % including unknown minority); Percentage of final stake (min: 50.1 % including unknown majority) | D11: 547,772 | E11: 25,710
A12: 4. | B12: Deal type: Acquisition, Merger | D12: 619,058 | E12: 23,130
A13: 5. | B13: Deal value (EUR): all deals with known value (including estimates) | D13: 992,431 | E13: 13,190 | K13: 41659 | L13: =K13-1 -> 41658
A14: 6. | B14: UK SIC 2007 (primary codes): 29 - Manufacture of motor vehicles, trailers and semi-trailers ( Acquiror OR Target ) | D14: 21,616 | E14: 222 | K14: 42387 | L14: =K14-1 -> 42386
B15: Boolean search : 1 And 2 And 3 And 4 And 5 And 6 | K15: 41749 | L15: =K15-1 -> 41748
D16: TOTAL | E16: 222 | K16: 42263 | L16: =K16-1 -> 42262

Sheet Results
A1: laufende Nummer | B1: Deal Number | C1: Kombinierter SIC Code | D1: Announced date | E1: Completed date | F1: Rumour date | G1: Acquiror name | H1: Acquiror country code | I1: Acquiror BvD ID number | J1: Acquiror primary business description | K1: Acquiror primary UK SIC (2007) code | L1: Kurzversion SIC Codes | M1: Acquiror primary UK SIC (2007) description | N1: Acquiror ISIN number | O1: Acquiror main exchange | P1: Target name | Q1: Target country code | R1: Target BvD ID number | S1: Target primary business description | T1: Target primary UK SIC (2007) code | U1: Kurzversion SIC Codes | V1: Target primary UK SIC (2007) description | W1: Deal type | X1: Deal status | Y1: Deal value th EUR | Z1: Acquiror market capitalisation th EUR Last avail. yr | AA1: Acquiror market capitalisation th EUR Year - 1 | AB1: Acquiror market capitalisation th EUR Year - 2 | AC1: Acquiror net profit th EUR Last avail. yr | AD1: Acquiror net profit th EUR Year - 1 | AE1: Acquiror net profit th EUR Year - 2 | AF1: Acquiror EBIT th EUR Last avail. yr | AG1: Acquiror EBIT th EUR Year - 1 | AH1: Acquiror EBIT th EUR Year - 2 | AI1: Ratio | AJ1: M&A Richtung | AK1: Acquiror ISIN number | AL1: Acquiror main exchange | AM1: Index | AN1: Announced date | AP1: t-10 | AQ1: Wert Unternehmen | AR1: Wert Index | AS1: t-2 | AT1: Wert Unternehmen | AU1: Wert Index | AV1: t-1 | AW1: Wert Unternehmen | AX1: Wert Index | AY1: t1 | AZ1: Wert Unternehmen | BA1: Wert Index | BB1: t2 | BC1: Wert Unternehmen | BD1: Wert Index | BE1: t10 | BF1: Wert Unternehmen | BG1: Wert Index | BH1: Entwicklung Unternehmen t-10 bis t10 | BI1: Entwicklung Unternehmen t-2 bis t2 | BJ1: Entwicklung Unternehmen t-1 bis t1 | BK1: Entwicklung Index t-10 bis t10 | BL1: Entwicklung Index t-2 bis t2 | BM1: Entwicklung Index t-1 bis t1 | BN1: Überrendite 20 Tage | BO1: Rangzahlen | BP1: Überrendite 4 Tage | BQ1: Rangzahlen | BR1: Überrendite 2 Tage | BS1: Rangzahlen | BT1: M&A-Richtung | BU1: Unterschied t2 und t1
A2: 177. | B2: 1909290900 | C2: 2932071121 | D2: 42275 | E2: 42275 | F2: 42275 | G2: TWINTEC AG | H2: DE | I2: DE5030252559 | J2: Exhaust emission-reducing products manufacturer | K2: 29320 | L2: =MID(K2,1,3) -> 293 | M2: Manufacture of other parts and accessories for motor vehicles | N2: DE000A2DAM11 | O2: Boerse Frankfurt | P2: KONTEC GMBH | Q2: DE | R2: DE7330333822 | S2: OEM exhaust gas after-treatment systems developer | T2: 71121 | U2: =MID(T2,1,3) -> 711 | V2: Engineering design activities for industrial process and production | W2: Acquisition 100% | X2: Completed | Y2: 7000 | Z2: 46252.133 | AA2: 35774.543 | AB2: 28518.744 | AC2: n.a. | AD2: n.a. | AE2: n.a. | AF2: -2331.2767 | AG2: -1295.5663 | AH2: -4026.7076 | AI2: =Y2/Z2 -> 0.15134437 | AJ2: =VLOOKUP(C2,Richtungsmatrix!$A$2:$E$133,5,FALSE) -> vertikal | AK2: DE000A2DAM11 | AL2: Boerse Frankfurt | AM2: DAXINDX | AN2: 42275 | AP2: 42265 | AQ2: 9.49 | AR2: 10177.58 | AS2: 42273 | AT2: 10.42 | AU2: 9594.53 | AV2: 42274 | AW2: 10.42 | AX2: 9594.53 | AY2: 42276 | AZ2: 10.37 | BA2: 9346.04 | BB2: 42277 | BC2: 9.99 | BD2: 9674.61 | BE2: 42285 | BF2: 10.07 | BG2: 9942.78 | BH2: =BF2/AQ2-1 -> 0.061116965 | BI2: =BC2/AT2-1 -> -0.041266795 | BJ2: =AZ2/AW2-1 -> -0.0047984645 | BK2: =BG2/AR2-1 -> -0.023070317 | BL2: =BD2/AU2-1 -> 0.0083464224 | BM2: =BA2/AX2-1 -> -0.025899132 | BN2: =BH2-BK2 -> 0.084187283 | BO2: 25 | BP2: =BI2-BL2 -> -0.049613217 | BQ2: 122 | BR2: =BJ2-BM2 -> 0.021100668 | BS2: 42 | BT2: =AJ2 -> vertikal | BU2: =BQ2-BS2 -> 80
A3: 198. | B3: 1909423175 | C3: 2932071121 | D3: 42466 | E3: 42489 | F3: 42466 | G3: GROCLIN SA | H3: PL | I3: PL970679408 | J3: Automotive seating manufacturer | K3: 29320 | L3: =MID(K3,1,3) -> 293 | M3: Manufacture of other parts and accessories for motor vehicles | N3: PLINTGR00013 | O3: Warsaw Stock Exchange | P3: CADM AUTOMOTIVE SP ZOO | Q3: PL | R3: PL122553776 | S3: Automotive engineering services | T3: 71121 | U3: =MID(T3,1,3) -> 711 | V3: Engineering design activities for industrial process and production | W3: Acquisition 51% | X3: Completed | Y3: 2319.46 | Z3: 42144.701 | AA3: 34096.604 | AB3: 25949.427 | AC3: n.a. | AD3: n.a. | AE3: n.a. | AF3: -3859.0789 | AG3: -5928.7096 | AH3: -2277.8873 | AI3: =Y3/Z3 -> 0.055035626 | AJ3: =VLOOKUP(C3,Richtungsmatrix!$A$2:$E$133,5,FALSE) -> vertikal | AK3: PLINTGR00013 | AL3: Warsaw Stock Exchange | AM3: PO:GPW | AN3: 42466 | AO3: =AP3-2 -> 42454 | AP3: 42456 | AQ3: 12.01 | AR3: 38.29 | AS3: 42464 | AT3: 13.02 | AU3: 38.89 | AV3: 42465 | AW3: 12.51 | AX3: 38.29 | AY3: 42467 | AZ3: 13.26 | BA3: 38.08 | BB3: 42468 | BC3: 13.13 | BD3: 39.71 | BE3: 42476 | BF3: 13.71 | BG3: 40.1 | BH3: =BF3/AQ3-1 -> 0.14154871 | BI3: =BC3/AT3-1 -> 0.0084485407 | BJ3: =AZ3/AW3-1 -> 0.059952038 | BK3: =BG3/AR3-1 -> 0.047270828 | BL3: =BD3/AU3-1 -> 0.021085112 | BM3: =BA3/AX3-1 -> -0.0054844607 | BN3: =BH3-BK3 -> 0.094277882 | BO3: 23 | BP3: =BI3-BL3 -> -0.012636571 | BQ3: 85 | BR3: =BJ3-BM3 -> 0.065436499 | BS3: 14 | BT3: =AJ3 -> vertikal | BU3: =BQ3-BS3 -> 71
A4: 162. | B4: 1909314356 | C4: 2511029320 | D4: 42332 | E4: 42332 | F4: 42332 | G4: ZASTAL SA | H4: PL | I4: PL006104350 | J4: Steel structures manufacturer | K4: 25110 | L4: =MID(K4,1,3) -> 251 | M4: Manufacture of metal structures and parts of structures | N4: PLZSTAL00012 | O4: Warsaw Stock Exchange | P4: CSY SA | Q4: PL | R4: PL519608547 | S4: Motor vehicles components manufacturer | T4: 29320 | U4: =MID(T4,1,3) -> 293 | V4: Manufacture of other parts and accessories for motor vehicles | W4: Acquisition 82.48% | X4: Completed | Y4: 10473.5 | Z4: 2839.5273 | AA4: 3776.2859 | AB4: 6774.3462 | AC4: n.a. | AD4: n.a. | AE4: n.a. | AF4: -530.47619 | AG4: -354.85365 | AH4: -252.29612 | AI4: =Y4/Z4 -> 3.688466 | AJ4: =VLOOKUP(C4,Richtungsmatrix!$A$2:$E$133,5,FALSE) -> lateral | AK4: PLZSTAL00012 | AL4: Warsaw Stock Exchange | AM4: PO:GPW | AN4: 42332 | AP4: 42322 | AQ4: 16.25 | AR4: 41.03 | AS4: 42330 | AT4: 15.5 | AU4: 41.51 | AV4: 42331 | AW4: 15.25 | AX4: 42.69 | AY4: 42333 | AZ4: 15 | BA4: 40.71 | BB4: 42334 | BC4: 14.75 | BD4: 40.65 | BE4: 42342 | BF4: 14.75 | BG4: 40.69 | BH4: =BF4/AQ4-1 -> -0.092307692 | BI4: =BC4/AT4-1 -> -0.048387097 | BJ4: =AZ4/AW4-1 -> -0.016393443 | BK4: =BG4/AR4-1 -> -0.0082866195 | BL4: =BD4/AU4-1 -> -0.020717899 | BM4: =BA4/AX4-1 -> -0.046380885 | BN4: =BH4-BK4 -> -0.084021073 | BO4: 114 | BP4: =BI4-BL4 -> -0.027669197 | BQ4: 102 | BR4: =BJ4-BM4 -> 0.029987443 | BS4: 34 | BT4: =AJ4 -> lateral | BU4: =BQ4-BS4 -> 68
A5: 100. | B5: 1601463061 | C5: 4643129310 | D5: 41374 | E5: 41407 | F5: 41374 | G5: INABADENKI SANGYO CO., LTD | H5: JP | I5: JP1120001041352 | J5: Electrical equipment wholesaler | K5: 46431 | L5: =MID(K5,1,3) -> 464 | M5: Wholesale of gramophone records, audio tapes, compact discs and video tapes and of the equipment on which these are played | N5: JP3146200005 | O5: Tokyo Stock Exchange | P5: PATLITE CORPORATION | Q5: JP | R5: JP000030894JPN | S5: Revolving lights and sirens for special purpose vehicles manufacturer | T5: 29310 | U5: =MID(T5,1,3) -> 293 | V5: Manufacture of electrical and electronic equipment for motor vehicles | W5: Acquisition 100% | X5: Completed | Y5: 54131.78 | Z5: 769509.97 | AA5: 933412.83 | AB5: 639796.59 | AC5: 66396.727 | AD5: 66944.522 | AE5: 52626.906 | AF5: 100257.97 | AG5: 100784.36 | AH5: 85438.51 | AI5: =Y5/Z5 -> 0.070345781 | AJ5: =VLOOKUP(C5,Richtungsmatrix!$A$2:$E$133,5,FALSE) -> lateral | AK5: JP3146200005 | AL5: Tokyo Stock Exchange | AM5: TOKYOSE | AN5: 41374 | AP5: 41364 | AQ5: 146.18 | AR5: 1039.69 | AS5: 41372 | AT5: 144.03 | AU5: 1084.4 | AV5: 41373 | AW5: 141.73 | AX5: 1110.79 | AY5: 41375 | AZ5: 147.43 | BA5: 1133.72 | BB5: 41376 | BC5: 148.01 | BD5: 1147.38 | BE5: 41384 | BF5: 144.4 | BG5: 1126.67 | BH5: =BF5/AQ5-1 -> -0.012176768 | BI5: =BC5/AT5-1 -> 0.027633132 | BJ5: =AZ5/AW5-1 -> 0.040217315 | BK5: =BG5/AR5-1 -> 0.083659552 | BL5: =BD5/AU5-1 -> 0.0580782 | BM5: =BA5/AX5-1 -> 0.020642966 | BN5: =BH5-BK5 -> -0.095836321 | BO5: 117 | BP5: =BI5-BL5 -> -0.030445068 | BQ5: 106 | BR5: =BJ5-BM5 -> 0.019574349 | BS5: 45 | BT5: =AJ5 -> lateral | BU5: =BQ5-BS5 -> 61
A6: 160. | B6: 1909012637 | C6: 2920125290 | D6: 41505 | E6: 41505 | F6: 41505 | G6: MANITEX INTERNATIONAL INC. | H6: US | I6: US421628978 | J6: Cranes and lifting equipment manufacturer | K6: 29201 | L6: =MID(K6,1,3) -> 292 | M6: Manufacture of bodies (coachwork) for motor vehicles (except caravans) | N6: US5634201082 | O6: NASDAQ National Market | P6: SABRE MANUFACTURING LLC | Q6: US | R6: US132899832L | S6: Liquid storage and containment tanks manufacturer | T6: 25290 | U6: =MID(T6,1,3) -> 252 | V6: Manufacture of other tanks, reservoirs and containers of metal | W6: Acquisition 100% | X6: Completed | Y6: 10507.94 | Z6: 105298.89 | AA6: n.a. | AB6: n.a. | AC6: n.a. | AD6: n.a. | AE6: n.a. | AF6: n.a. | AG6: n.a. | AH6: n.a. | AI6: =Y6/Z6 -> 0.099791552 | AJ6: =VLOOKUP(C6,Richtungsmatrix!$A$2:$E$133,5,FALSE) -> lateral | AK6: US5634201082 | AL6: NASDAQ National Market | AM6: @NDAQ | AN6: 41505 | AP6: 41495 | AQ6: 158.7 | AR6: 32.27 | AS6: 41503 | AT6: 146.67 | AU6: 31.07 | AV6: 41504 | AW6: 146.67 | AX6: 31.07 | AY6: 41506 | AZ6: 147.25 | BA6: 30.76 | BB6: 41507 | BC6: 147.1 | BD6: 31.87 | BE6: 41515 | BF6: 146.81 | BG6: 29.74 | BH6: =BF6/AQ6-1 -> -0.074921235 | BI6: =BC6/AT6-1 -> 0.0029317516 | BJ6: =AZ6/AW6-1 -> 0.0039544556 | BK6: =BG6/AR6-1 -> -0.078400992 | BL6: =BD6/AU6-1 -> 0.02574831 | BM6: =BA6/AX6-1 -> -0.0099774702 | BN6: =BH6-BK6 -> 0.0034797566 | BO6: 66 | BP6: =BI6-BL6 -> -0.022816559 | BQ6: 98 | BR6: =BJ6-BM6 -> 0.013931926 | BS6: 53 | BT6: =AJ6 -> lateral | BU6: =BQ6-BS6 -> 45
A7: 93. | B7: 1909442318 | C7: 2932029310 | D7: 42513 | E7: 42517 | F7: 42513 | G7: STANDARD MOTOR PRODUCTS INC. | H7: US | I7: US111362020 | J7: Automotive aftermarket engine management and temperature control products manufacturer | K7: 29320 | L7: =MID(K7,1,3) -> 293 | M7: Manufacture of other parts and accessories for motor vehicles | N7: US8536661056 | O7: New York Stock Exchange (NYSE) | P7: GENERAL CABLE CORPORATION'S AUTOMOTIVE IGNITION WIRE BUSINESS | Q7: US | S7: Car ignition cable manufacturer | T7: 29310 | U7: =MID(T7,1,3) -> 293 | V7: Manufacture of electrical and electronic equipment for motor vehicles | W7: Acquisition 100% | X7: Completed | Y7: 63431 | Z7: 1152850.9 | AA7: n.a. | AB7: n.a. | AC7: n.a. | AD7: n.a. | AE7: n.a. | AF7: n.a. | AG7: n.a. | AH7: n.a. | AI7: =Y7/Z7 -> 0.055020992 | AJ7: =VLOOKUP(C7,Richtungsmatrix!$A$2:$E$133,5,FALSE) -> horizontal | AK7: US8536661056 | AL7: New York Stock Exchange (NYSE) | AM7: @NDAQ | AN7: 42513 | AP7: 42503 | AQ7: 3296.17 | AR7: 64.09 | AS7: 42511 | AT7: 3323.74 | AU7: 63.41 | AV7: 42512 | AW7: 3323.74 | AX7: 63.41 | AY7: 42514 | AZ7: 3399.34 | BA7: 64 | BB7: 42515 | BC7: 3375.33 | BD7: 65.68 | BE7: 42523 | BF7: 3410.91 | BG7: 65.28 | BH7: =BF7/AQ7-1 -> 0.034810098 | BI7: =BC7/AT7-1 -> 0.015521671 | BJ7: =AZ7/AW7-1 -> 0.022745461 | BK7: =BG7/AR7-1 -> 0.018567639 | BL7: =BD7/AU7-1 -> 0.03579877 | BM7: =BA7/AX7-1 -> 0.0093045261 | BN7: =BH7-BK7 -> 0.016242459 | BO7: 59 | BP7: =BI7-BL7 -> -0.020277099 | BQ7: 96 | BR7: =BJ7-BM7 -> 0.013440935 | BS7: 55 | BT7: =AJ7 -> horizontal | BU7: =BQ7-BS7 -> 41
A8: 131. | B8: 1601496340 | C8: 2311029320 | D8: 41428 | E8: 41428 | F8: 41428 | G8: TURKIYE SISE VE CAM FABRIKALARI AS | H8: TR | I8: TR90015ET | J8: Flat glass manufacturer | K8: 23110 | L8: =MID(K8,1,3) -> 231 | M8: Manufacture of flat glass | N8: TRASISEW91Q3 | O8: Istanbul Stock Exchange | P8: RICHARD FRITZ GMBH + CO. KG | Q8: DE | R8: DE7070175289 | S8: Automotive glazing and glass coatings services | T8: 29320 | U8: =MID(T8,1,3) -> 293 | V8: Manufacture of other parts and accessories for motor vehicles | W8: Acquisition 100% | X8: Completed | Y8: 24000 | Z8: 4926336.7 | AA8: n.a. | AB8: n.a. | AC8: n.a. | AD8: n.a. | AE8: n.a. | AF8: 181711.38 | AG8: n.a. | AH8: n.a. | AI8: =Y8/Z8 -> 0.0048717742 | AJ8: =VLOOKUP(C8,Richtungsmatrix!$A$2:$E$133,5,FALSE) -> vertikal | AK8: TRASISEW91Q3 | AL8: Istanbul Stock Exchange | AM8: TRKISTB | AN8: 41428 | AP8: 41418 | AQ8: 3218301 | AR8: 91706.44 | AS8: 41426 | AT8: 3186049 | AU8: 87278.5 | AV8: 41427 | AW8: 3186049 | AX8: 87278.5 | AY8: 41429 | AZ8: 3015725 | BA8: 78413.88 | BB8: 41430 | BC8: 2945593 | BD8: 80177.63 | BE8: 41438 | BF8: 2945593 | BG8: 76668.81 | BH8: =BF8/AQ8-1 -> -0.084736636 | BI8: =BC8/AT8-1 -> -0.075471532 | BJ8: =AZ8/AW8-1 -> -0.053459316 | BK8: =BG8/AR8-1 -> -0.16397573 | BL8: =BD8/AU8-1 -> -0.081358754 | BM8: =BA8/AX8-1 -> -0.10156705 | BN8: =BH8-BK8 -> 0.079239089 | BO8: 27 | BP8: =BI8-BL8 -> 0.0058872216 | BQ8: 61 | BR8: =BJ8-BM8 -> 0.048107737 | BS8: 22 | BT8: =AJ8 -> vertikal | BU8: =BQ8-BS8 -> 39
A9: 185. | B9: 1633108426 | C9: 2920129100 | D9: 41250 | E9: 41268 | F9: 41250 | G9: XUZHOU HANDLER SPECIAL VEHICLE CO., LTD | H9: CN | I9: CN40378PC | J9: Overhead working truck manufacturer | K9: 29201 | L9: =MID(K9,1,3) -> 292 | M9: Manufacture of bodies (coachwork) for motor vehicles (except caravans) | N9: CNE1000011W1 | O9: Shenzhen Stock Exchange | P9: SHANGHAI GRAMAN INTERNATIONAL FIRE EQUIPMENT CO., LTD | Q9: CN | R9: CN9360411456 | S9: Firefighting vehicle manufacturer | T9: 29100 | U9: =MID(T9,1,3) -> 291 | V9: Manufacture of motor vehicles | W9: Acquisition 100% | X9: Completed | Y9: 5084.08 | Z9: 942517.2 | AA9: 992585.26 | AB9: 205641.23 | AC9: 12064.647 | AD9: 3617.7911 | AE9: 2217.9054 | AF9: 20696.624 | AG9: 5878.769 | AH9: 2307.0147 | AI9: =Y9/Z9 -> 0.0053941509 | AJ9: =VLOOKUP(C9,Richtungsmatrix!$A$2:$E$133,5,FALSE) -> vertikal | AK9: CNE1000011W1 | AL9: Shenzhen Stock Exchange | AM9: CN:COM | AN9: 41250 | AP9: 41240 | AQ9: 63.71 | AR9: 0.82 | AS9: 41248 | AT9: 58.86 | AU9: 0.8 | AV9: 41249 | AW9: 59.06 | AX9: 0.83 | AY9: 41251 | AZ9: 59.93 | BA9: 0.82 | BB9: 41252 | BC9: 59.93 | BD9: 0.82 | BE9: 41260 | BF9: 63.03 | BG9: 0.87 | BH9: =BF9/AQ9-1 -> -0.010673364 | BI9: =BC9/AT9-1 -> 0.018178729 | BJ9: =AZ9/AW9-1 -> 0.014730782 | BK9: =BG9/AR9-1 -> 0.06097561 | BL9: =BD9/AU9-1 -> 0.025 | BM9: =BA9/AX9-1 -> -0.012048193 | BN9: =BH9-BK9 -> -0.071648973 | BO9: 110 | BP9: =BI9-BL9 -> -0.0068212708 | BQ9: 76 | BR9: =BJ9-BM9 -> 0.026778975 | BS9: 39 | BT9: =AJ9 -> vertikal | BU9: =BQ9-BS9 -> 37
A10: 172. | B10: 1909096552 | C10: 2932045310 | D10: 41750 | E10: 41750 | F10: 41750 | G10: STANDARD MOTOR PRODUCTS INC. | H10: US | I10: US111362020 | J10: Automotive aftermarket engine management and temperature control products manufacturer | K10: 29320 | L10: =MID(K10,1,3) -> 293 | M10: Manufacture of other parts and accessories for motor vehicles | N10: US8536661056 | O10: New York Stock Exchange (NYSE) | P10: ANNEX MANUFACTURING INC. | Q10: US | R10: US*190521540725 | S10: Automotive and truck climate control products wholesaler | T10: 45310 | U10: =MID(T10,1,3) -> 453 | V10: Wholesale trade of motor vehicle parts and accessories | W10: Acquisition 100% | X10: Completed | Y10: 8324 | Z10: 1152850.9 | AA10: n.a. | AB10: n.a. | AC10: n.a. | AD10: n.a. | AE10: n.a. | AF10: n.a. | AG10: n.a. | AH10: n.a. | AI10: =Y10/Z10 -> 0.0072203613 | AJ10: =VLOOKUP(C10,Richtungsmatrix!$A$2:$E$133,5,FALSE) -> vertikal | AK10: US8536661056 | AL10: New York Stock Exchange (NYSE) | AM10: @NDAQ | AN10: 41750 | AP10: 41740 | AQ10: 3077.04 | AR10: 34.81 | AS10: 41748 | AT10: 3192.08 | AU10: 34.89 | AV10: 41749 | AW10: 3192.08 | AX10: 35.01 | AY10: 41751 | AZ10: 3297.68 | BA10: 36.02 | BB10: 41752 | BC10: 3235.87 | BD10: 36.46 | BE10: 41760 | BF10: 3295.11 | BG10: 36.95 | BH10: =BF10/AQ10-1 -> 0.070870057 | BI10: =BC10/AT10-1 -> 0.013718328 | BJ10: =AZ10/AW10-1 -> 0.033081878 | BK10: =BG10/AR10-1 -> 0.061476587 | BL10: =BD10/AU10-1 -> 0.044998567 | BM10: =BA10/AX10-1 -> 0.0288489 | BN10: =BH10-BK10 -> 0.0093934698 | BO10: 62 | BP10: =BI10-BL10 -> -0.031280239 | BQ10: 108 | BR10: =BJ10-BM10 -> 0.0042329773 | BS10: 71 | BT10: =AJ10 -> vertikal | BU10: =BQ10-BS10 -> 37
A11: 181. | B11: 1907001508 | C11: 2813129320 | D11: 41464 | E11: 41495 | F11: 41464 | G11: SHIMGE PUMP INDUSTRY GROUP CO., LTD | H11: CN | I11: CN40223PC | J11: Pump manufacturer | K11: 28131 | L11: =MID(K11,1,3) -> 281 | M11: Manufacture of pumps | N11: CNE100000YJ6 | O11: Shenzhen Stock Exchange | P11: FAI ELECTRONICS CO., LTD | Q11: CN | R11: CN9360035678 | S11: Auto engine manufacturer | T11: 29320 | U11: =MID(T11,1,3) -> 293 | V11: Manufacture of other parts and accessories for motor vehicles | W11: Acquisition 100% | X11: Completed | Y11: 6714.9 | Z11: 473394.62 | AA11: 493233.44 | AB11: 313534.45 | AC11: 15922.937 | AD11: 16671.44 | AE11: 11805.363 | AF11: 16927.335 | AG11: 14643.366 | AH11: 12772.508 | AI11: =Y11/Z11 -> 0.014184572 | AJ11: =VLOOKUP(C11,Richtungsmatrix!$A$2:$E$133,5,FALSE) -> vertikal | AK11: CNE100000YJ6 | AL11: Shenzhen Stock Exchange | AM11: CN:COM | AN11: 41464 | AP11: 41454 | AQ11: 91.87 | AR11: 0.78 | AS11: 41462 | AT11: 94.17 | AU11: 0.8 | AV11: 41463 | AW11: 91.65 | AX11: 0.8 | AY11: 41465 | AZ11: 93.68 | BA11: 0.78 | BB11: 41466 | BC11: 96.04 | BD11: 0.81 | BE11: 41474 | BF11: 95.71 | BG11: 0.82 | BH11: =BF11/AQ11-1 -> 0.041798193 | BI11: =BC11/AT11-1 -> 0.019857704 | BJ11: =AZ11/AW11-1 -> 0.022149482 | BK11: =BG11/AR11-1 -> 0.051282051 | BL11: =BD11/AU11-1 -> 0.0125 | BM11: =BA11/AX11-1 -> -0.025 | BN11: =BH11-BK11 -> -0.0094838582 | BO11: 77 | BP11: =BI11-BL11 -> 0.0073577042 | BQ11: 60 | BR11: =BJ11-BM11 -> 0.047149482 | BS11: 24 | BT11: =AJ11 -> vertikal | BU11: =BQ11-BS11 -> 36
A12: 202. | B12: 1909088771 | C12: 2910071121 | D12: 41730 | E12: 41730 | F12: 41730 | G12: KARSAN OTOMOTIV SAN VE TIC AS | H12: TR | I12: TR30333ET | J12: Commercial vehicle manufacturer | K12: 29100 | L12: =MID(K12,1,3) -> 291 | M12: Manufacture of motor vehicles | N12: TRAKARSN91H7 | O12: Istanbul Stock Exchange | P12: STILE BERTONE SPA'S TRADEMARK | Q12: IT | S12: Automobile design services | T12: 71121 | U12: =MID(T12,1,3) -> 711 | V12: Engineering design activities for industrial process and production | W12: Acquisition 100% | X12: Completed | Y12: 2000 | Z12: 301422.21 | AA12: 227787.81 | AB12: n.a. | AC12: n.a. | AD12: n.a. | AE12: n.a. | AF12: -9961.0473 | AG12: 3271.0097 | AH12: n.a. | AI12: =Y12/Z12 -> 0.0066352111 | AJ12: =VLOOKUP(C12,Richtungsmatrix!$A$2:$E$133,5,FALSE) -> vertikal | AK12: TRAKARSN91H7 | AL12: Istanbul Stock Exchange | AM12: TRKISTB | AN12: 41730 | AP12: 41720 | AQ12: 44.27 | AR12: 64901.18 | AS12: 41728 | AT12: 44.77 | AU12: 67331.13 | AV12: 41729 | AW12: 45.27 | AX12: 70464.69 | AY12: 41731 | AZ12: 48.25 | BA12: 70811.38 | BB12: 41732 | BC12: 47.75 | BD12: 70836.06 | BE12: 41740 | BF12: 49.25 | BG12: 72144 | BH12: =BF12/AQ12-1 -> 0.11249153 | BI12: =BC12/AT12-1 -> 0.06656243 | BJ12: =AZ12/AW12-1 -> 0.065827259 | BK12: =BG12/AR12-1 -> 0.11159766 | BL12: =BD12/AU12-1 -> 0.052055119 | BM12: =BA12/AX12-1 -> 0.0049200529 | BN12: =BH12-BK12 -> 0.00089386647 | BO12: 68 | BP12: =BI12-BL12 -> 0.014507311 | BQ12: 49 | BR12: =BJ12-BM12 -> 0.060907206 | BS12: 17 | BT12: =AJ12 -> vertikal | BU12: =BQ12-BS12 -> 32
A13: 17. | B13: 1909136569 | C13: 2932029320 | D13: 41878 | E13: 42009 | F13: 41870 | G13: LEAR CORPORATION | H13: US | I13: US133386776 | J13: Automobile seat systems manufacturer | K13: 29320 | L13: =MID(K13,1,3) -> 293 | M13: Manufacture of other parts and accessories for motor vehicles | N13: US5218652049 | O13: New York Stock Exchange (NYSE) | P13: EAGLE OTTAWA LLC | Q13: US | R13: US149104428L | S13: Leather automotive interiors manufacturer | T13: 29320 | U13: =MID(T13,1,3) -> 293 | V13: Manufacture of other parts and accessories for motor vehicles | W13: Acquisition 100% | X13: Completed | Y13: 711549.93 | Z13: 8816177.6 | AA13: n.a. | AB13: n.a. | AC13: n.a. | AD13: n.a. | AE13: n.a. | AF13: n.a. | AG13: n.a. | AH13: n.a. | AI13: =Y13/Z13 -> 0.080709573 | AJ13: =VLOOKUP(C13,Richtungsmatrix!$A$2:$E$133,5,FALSE) -> horizontal | AK13: US5218652049 | AL13: New York Stock Exchange (NYSE) | AM13: @NDAQ | AN13: 41878 | AP13: 41868 | AQ13: 359.07 | AR13: 42.32 | AS13: 41876 | AT13: 363.69 | AU13: 42.99 | AV13: 41877 | AW13: 361.1 | AX13: 43.51 | AY13: 41879 | AZ13: 375.68 | BA13: 43.47 | BB13: 41880 | BC13: 374.05 | BD13: 43.89 | BE13: 41888 | BF13: 382.01 | BG13: 43.12 | BH13: =BF13/AQ13-1 -> 0.063887264 | BI13: =BC13/AT13-1 -> 0.028485798 | BJ13: =AZ13/AW13-1 -> 0.040376627 | BK13: =BG13/AR13-1 -> 0.018903592 | BL13: =BD13/AU13-1 -> 0.020935101 | BM13: =BA13/AX13-1 -> -0.00091932889 | BN13: =BH13-BK13 -> 0.044983673 | BO13: 43 | BP13: =BI13-BL13 -> 0.0075506972 | BQ13: 59 | BR13: =BJ13-BM13 -> 0.041295956 | BS13: 27 | BT13: =AJ13 -> horizontal | BU13: =BQ13-BS13 -> 32
A14: 110. | B14: 1907016689 | C14: 2931025210 | D14: 41586 | E14: 41586 | F14: 41586 | G14: S&T MOTIV CO., LTD | H14: KR | I14: KR1801110396069 | J14: Motor vehicle electronic equipment manufacturer | K14: 29310 | L14: =MID(K14,1,3) -> 293 | M14: Manufacture of electrical and electronic equipment for motor vehicles | N14: KR7064960008 | O14: Korea Stock Exchange | P14: S&T CORPORATION | Q14: KR | R14: KR1942110090598 | S14: Air cooler and heating equipment manufacturer | T14: 25210 | U14: =MID(T14,1,3) -> 252 | V14: Manufacture of central heating radiators and boilers | W14: Acquisition 50.663% | X14: Completed | Y14: 43439.29 | Z14: 560759.48 | AA14: 968123.63 | AB14: 453255.41 | AC14: 25567.712 | AD14: 60990.762 | AE14: 34144.615 | AF14: 52681.309 | AG14: 69146.936 | AH14: 41056.925 | AI14: =Y14/Z14 -> 0.077465102 | AJ14: =VLOOKUP(C14,Richtungsmatrix!$A$2:$E$133,5,FALSE) -> lateral | AK14: KR7064960008 | AL14: Korea Stock Exchange | AM14: KORCOMP | AN14: 41586 | AP14: 41576 | AQ14: 254.92 | AR14: 2046.67 | AS14: 41584 | AT14: 240.83 | AU14: 2015.32 | AV14: 41585 | AW14: 234.2 | AX14: 2014.85 | AY14: 41587 | AZ14: 232.54 | BA14: 1987.21 | BB14: 41588 | BC14: 232.54 | BD14: 1987.21 | BE14: 41596 | BF14: 236.69 | BG14: 2014.24 | BH14: =BF14/AQ14-1 -> -0.071512631 | BI14: =BC14/AT14-1 -> -0.034422622 | BJ14: =AZ14/AW14-1 -> -0.007087959 | BK14: =BG14/AR14-1 -> -0.015845251 | BL14: =BD14/AU14-1 -> -0.013948157 | BM14: =BA14/AX14-1 -> -0.013718143 | BN14: =BH14-BK14 -> -0.05566738 | BO14: 106 | BP14: =BI14-BL14 -> -0.020474465 | BQ14: 97 | BR14: =BJ14-BM14 -> 0.0066301838 | BS14: 65 | BT14: =AJ14 -> lateral | BU14: =BQ14-BS14 -> 32
A15: 219. | B15: 1909419310 | C15: 2932029320 | D15: 42837 | E15: 42837 | F15: 42453 | G15: VA AUTOMOTIVE I HASSLEHOLM AB | H15: SE | I15: SE5567679625 | J15: Automotive industry components manufacturer holding company | K15: 29320 | L15: =MID(K15,1,3) -> 293 | M15: Manufacture of other parts and accessories for motor vehicles | N15: SE0006426508 | O15: Nasdaq OMX - Stockholm | P15: NOCO AB | Q15: SE | R15: SE5561619858 | S15: Motor vehicle chair and seat manufacturer | T15: 29320 | U15: =MID(T15,1,3) -> 293 | V15: Manufacture of other parts and accessories for motor vehicles | W15: Acquisition 100% | X15: Completed | Y15: 218.59 | Z15: 4799.6704 | AA15: n.a. | AB15: n.a. | AC15: n.a. | AD15: n.a. | AE15: n.a. | AF15: -447.46728 | AG15: -483.97689 | AH15: -409.07264 | AI15: =Y15/Z15 -> 0.045542711 | AJ15: =VLOOKUP(C15,Richtungsmatrix!$A$2:$E$133,5,FALSE) -> horizontal | AK15: SE0006426508 | AL15: Nasdaq OMX - Stockholm | AM15: SWEDOMX | AN15: 42837 | AP15: 42827 | AQ15: 69.18 | AR15: 1583.66 | AS15: 42835 | AT15: 69.39 | AU15: 1569.8 | AV15: 42836 | AW15: 67.14 | AX15: 1572.1 | AY15: 42838 | AZ15: 66.53 | BA15: 1573.77 | BB15: 42839 | BC15: 66.53 | BD15: 1572.81 | BE15: 42847 | BF15: 65.92 | BG15: 1568.49 | BH15: =BF15/AQ15-1 -> -0.047123446 | BI15: =BC15/AT15-1 -> -0.041216314 | BJ15: =AZ15/AW15-1 -> -0.009085493 | BK15: =BG15/AR15-1 -> -0.0095790763 | BL15: =BD15/AU15-1 -> 0.0019174417 | BM15: =BA15/AX15-1 -> 0.0010622734 | BN15: =BH15-BK15 -> -0.03754437 | BO15: 99 | BP15: =BI15-BL15 -> -0.043133755 | BQ15: 115 | BR15: =BJ15-BM15 -> -0.010147766 | BS15: 87 | BT15: =AJ15 -> horizontal | BU15: =BQ15-BS15 -> 28
A16: 182. | B16: 1909529259 | C16: 2932046740 | D16: 42724 | E16: 42724 | F16: 42724 | G16: ENTEREX INTERNATIONAL LTD | H16: KY | I16: KY40604FC | J16: Automobile components manufacturing holding company | K16: 29320 | L16: =MID(K16,1,3) -> 293 | M16: Manufacture of other parts and accessories for motor vehicles | N16: KYG316231045 | O16: Taiwan Stock Exchange | P16: AVA BENELUX BV | Q16: NL | R16: NL14008436 | S16: Automotive engine cooling and air conditioning products wholesalers | T16: 46740 | U16: =MID(T16,1,3) -> 467 | V16: Wholesale of hardware, plumbing and heating equipment and supplies | W16: Acquisition 76.23% and 100% | X16: Completed | Y16: 6000 | Z16: 157535.46 | AA16: 81731.644 | AB16: 78322.276 | AC16: 12773.593 | AD16: 5331.0946 | AE16: 4365.3181 | AF16: 19360.558 | AG16: 9709.7174 | AH16: 8852.1102 | AI16: =Y16/Z16 -> 0.038086663 | AJ16: =VLOOKUP(C16,Richtungsmatrix!$A$2:$E$133,5,FALSE) -> lateral | AK16: KYG316231045 | AL16: Taiwan Stock Exchange | AM16: TAIWGHT | AN16: 42724 | AP16: 42714 | AQ16: 139.59 | AR16: 9383.07 | AS16: 42722 | AT16: 151.91 | AU16: 9352.27 | AV16: 42723 | AW16: 147.04 | AX16: 9316.06 | AY16: 42725 | AZ16: 154.2 | BA16: 9234.94 | BB16: 42726 | BC16: 151.91 | BD16: 9204.29 | BE16: 42734 | BF16: 153.06 | BG16: 9186.3 | BH16: =BF16/AQ16-1 -> 0.096496884 | BI16: =BC16/AT16-1 -> 0 | BJ16: =AZ16/AW16-1 -> 0.048694233 | BK16: =BG16/AR16-1 -> -0.020970748 | BL16: =BD16/AU16-1 -> -0.015822896 | BM16: =BA16/AX16-1 -> -0.0087075437 | BN16: =BH16-BK16 -> 0.11746763 | BO16: 19 | BP16: =BI16-BL16 -> 0.015822896 | BQ16: 45 | BR16: =BJ16-BM16 -> 0.057401777 | BS16: 18 | BT16: =AJ16 -> lateral | BU16: =BQ16-BS16 -> 27
A17: 9. | B17: 1909559432 | C17: 2910028220 | D17: 42817 | E17: 42875 | F17: 42817 | G17: TOYOTA INDUSTRIES CORPORATION | H17: JP | I17: JP3180301014273 | J17: Car manufacturer | K17: 29100 | L17: =MID(K17,1,3) -> 291 | M17: Manufacture of motor vehicles | N17: JP3634600005 | O17: Tokyo Stock Exchange | P17: VANDERLANDE INDUSTRIES HOLDING BV | Q17: NL | R17: NL16055699 | S17: Automated handling systems manufacturer | T17: 28220 | U17: =MID(T17,1,3) -> 282 | V17: Manufacture of lifting and handling equipment | W17: Acquisition 100% | X17: Completed | Y17: 1160000 | Z17: 12857863 | AA17: 17347721 | AB17: 11396758 | AC17: 1196186.1 | AD17: 599258.33 | AE17: 494063.91 | AF17: 331367.55 | AG17: 380626.54 | AH17: 424005.18 | AI17: =Y17/Z17 -> 0.090217169 | AJ17: =VLOOKUP(C17,Richtungsmatrix!$A$2:$E$133,5,FALSE) -> lateral | AK17: JP3634600005 | AL17: Tokyo Stock Exchange | AM17: TOKYOSE | AN17: 42817 | AP17: 42807 | AQ17: 6506.9 | AR17: 1570.33 | AS17: 42815 | AT17: 6461.79 | AU17: 1560.62 | AV17: 42816 | AW17: 6236.25 | AX17: 1540.26 | AY17: 42818 | AZ17: 6281.36 | BA17: 1530.05 | BB17: 42819 | BC17: 6281.36 | BD17: 1530.05 | BE17: 42827 | BF17: 6308.89 | BG17: 1537.3 | BH17: =BF17/AQ17-1 -> -0.030430773 | BI17: =BC17/AT17-1 -> -0.027922603 | BJ17: =AZ17/AW17-1 -> 0.0072335137 | BK17: =BG17/AR17-1 -> -0.021033795 | BL17: =BD17/AU17-1 -> -0.019588369 | BM17: =BA17/AX17-1 -> -0.006628751 | BN17: =BH17-BK17 -> -0.009396978 | BO17: 76 | BP17: =BI17-BL17 -> -0.0083342348 | BQ17: 81 | BR17: =BJ17-BM17 -> 0.013862265 | BS17: 54 | BT17: =AJ17 -> lateral | BU17: =BQ17-BS17 -> 27
A18: 102. | B18: 1907031919 | C18: 2910029100 | D18: 41706 | E18: 41759 | F18: 41691 | G18: CHONGQING CHANGAN AUTOMOBILE CO., LTD | H18: CN | I18: CN30053PC | J18: Automobile manufacturer | K18: 29100 | L18: =MID(K18,1,3) -> 291 | M18: Manufacture of motor vehicles | N18: CNE000000N14 | O18: Shenzhen Stock Exchange | P18: HEFEI CHANG'AN AUTOMOBILE CO., LTD | Q18: CN | R18: CN9367123795 | S18: Automobile manufacturer | T18: 29100 | U18: =MID(T18,1,3) -> 291 | V18: Manufacture of motor vehicles | W18: Acquisition 100% | X18: Completed | Y18: 51587.38 | Z18: 895319.42 | AA18: 1402594.3 | AB18: n.a. | AC18: n.a. | AD18: n.a. | AE18: n.a. | AF18: 75535.306 | AG18: -27741.411 | AH18: n.a. | AI18: =Y18/Z18 -> 0.057618967 | AJ18: =VLOOKUP(C18,Richtungsmatrix!$A$2:$E$133,5,FALSE) -> horizontal | AK18: CNE000000N14 | AL18: Shenzhen Stock Exchange | AM18: CN:COM | AN18: 41706 | AP18: 41696 | AQ18: 5325.18 | AR18: 0.75 | AS18: 41704 | AT18: 5306.82 | AU18: 0.75 | AV18: 41705 | AW18: 5325.18 | AX18: 0.76 | AY18: 41707 | AZ18: 5325.18 | BA18: 0.76 | BB18: 41708 | BC18: 5152.57 | BD18: 0.75 | BE18: 41716 | BF18: 5196.64 | BG18: 0.76 | BH18: =BF18/AQ18-1 -> -0.024138151 | BI18: =BC18/AT18-1 -> -0.029066371 | BJ18: =AZ18/AW18-1 -> 0 | BK18: =BG18/AR18-1 -> 0.013333333 | BL18: =BD18/AU18-1 -> 0 | BM18: =BA18/AX18-1 -> 0 | BN18: =BH18-BK18 -> -0.037471485 | BO18: 98 | BP18: =BI18-BL18 -> -0.029066371 | BQ18: 105 | BR18: =BJ18-BM18 -> 0 | BS18: 78 | BT18: =AJ18 -> horizontal | BU18: =BQ18-BS18 -> 27
A19: 97. | B19: 1907152275 | C19: 2932064201 | D19: 42477 | E19: 42500 | F19: 42477 | G19: CHINA FIRST CAPITAL GROUP LTD | H19: KY | I19: KY40166WB | J19: Shock absorber manufacturing holding company | K19: 29320 | L19: =MID(K19,1,3) -> 293 | M19: Manufacture of other parts and accessories for motor vehicles | N19: KYG2114R1103 | O19: Hong Kong Stock Exchange | P19: BRILLIANT RICH HOLDING LTD | Q19: VG | S19: Investment holding company | T19: 64201 | U19: =MID(T19,1,3) -> 642 | V19: Activities of agricultural holding companies | W19: Acquisition 100% | X19: Completed | Y19: 60196.93 | Z19: 1274171 | AA19: 228707.93 | AB19: 89720.042 | AC19: 21858.957 | AD19: -2682.0434 | AE19: 271.56029 | AF19: -997.73764 | AG19: 3744.8584 | AH19: 3750.442 | AI19: =Y19/Z19 -> 0.047243997 | AJ19: =VLOOKUP(C19,Richtungsmatrix!$A$2:$E$133,5,FALSE) -> lateral | AK19: KYG2114R1103 | AL19: Hong Kong Stock Exchange | AM19: K:HKEX | AN19: 42477 | AP19: 42467 | AQ19: 224.58 | AR19: 183.1 | AS19: 42475 | AT19: 223.46 | AU19: 193 | AV19: 42476 | AW19: 223.46 | AX19: 193 | AY19: 42478 | AZ19: 231.84 | BA19: 191 | BB19: 42479 | BC19: 229.05 | BD19: 195 | BE19: 42487 | BF19: 255.87 | BG19: 200.4 | BH19: =BF19/AQ19-1 -> 0.13932674 | BI19: =BC19/AT19-1 -> 0.025015663 | BJ19: =AZ19/AW19-1 -> 0.037501119 | BK19: =BG19/AR19-1 -> 0.094483889 | BL19: =BD19/AU19-1 -> 0.010362694 | BM19: =BA19/AX19-1 -> -0.010362694 | BN19: =BH19-BK19 -> 0.044842855 | BO19: 44 | BP19: =BI19-BL19 -> 0.014652968 | BQ19: 48 | BR19: =BJ19-BM19 -> 0.047863813 | BS19: 23 | BT19: =AJ19 -> lateral | BU19: =BQ19-BS19 -> 25
A20: 11. | B20: 1909258680 | C20: 2932029310 | D20: 42198 | E20: 42318 | F20: 42198 | G20: BORGWARNER INC. | H20: US | I20: US133404508 | J20: Automotive energy-efficient systems manufacturer | K20: 29320 | L20: =MID(K20,1,3) -> 293 | M20: Manufacture of other parts and accessories for motor vehicles | N20: US0997241064 | O20: New York Stock Exchange (NYSE) | P20: REMY INTERNATIONAL INC. | Q20: US | R20: US471744351 | S20: Automotive electrical components manufacturer holding company | T20: 29310 | U20: =MID(T20,1,3) -> 293 | V20: Manufacture of electrical and electronic equipment for motor vehicles | W20: Acquisition 100% | X20: Completed | Y20: 1115780 | Z20: 7969029.6 | AA20: n.a. | AB20: n.a. | AC20: n.a. | AD20: n.a. | AE20: n.a. | AF20: n.a. | AG20: n.a. | AH20: n.a. | AI20: =Y20/Z20 -> 0.14001454 | AJ20: =VLOOKUP(C20,Richtungsmatrix!$A$2:$E$133,5,FALSE) -> horizontal | AK20: US0997241064 | AL20: New York Stock Exchange (NYSE) | AM20: @NDAQ | AN20: 42198 | AO20: =AP20-1 -> 42187 | AP20: 42188 | AQ20: 2317.8 | AR20: 49.08 | AS20: 42196 | AT20: 2156.18 | AU20: 50.17 | AV20: 42197 | AW20: 2156.18 | AX20: 50.17 | AY20: 42199 | AZ20: 2193.17 | BA20: 50.67 | BB20: 42200 | BC20: 2164.22 | BD20: 51.06 | BE20: 42208 | BF20: 2078.99 | BG20: 50.89 | BH20: =BF20/AQ20-1 -> -0.10303305 | BI20: =BC20/AT20-1 -> 0.0037288167 | BJ20: =AZ20/AW20-1 -> 0.01715534 | BK20: =BG20/AR20-1 -> 0.036878566 | BL20: =BD20/AU20-1 -> 0.017739685 | BM20: =BA20/AX20-1 -> 0.0099661152 | BN20: =BH20-BK20 -> -0.13991161 | BO20: 128 | BP20: =BI20-BL20 -> -0.014010868 | BQ20: 88 | BR20: =BJ20-BM20 -> 0.0071892243 | BS20: 63 | BT20: =AJ20 -> horizontal | BU20: =BQ20-BS20 -> 25
A21: 150. | B21: 1907000523 | C21: 2899029320 | D21: 41456 | E21: 41456 | F21: 41456 | G21: WOOSHIN SYSTEMS CO., LTD | H21: KR | I21: KR1101110366719 | J21: Automotive body assembly system manufacturer | K21: 28990 | L21: =MID(K21,1,3) -> 289 | M21: Manufacture of other special-purpose machinery n.e.c. | N21: KR7017370008 | O21: Korea Stock Exchange | P21: DBI INC. | Q21: KR | R21: KR1301110006816 | S21: Motor vehicles parts manufacturer | T21: 29320 | U21: =MID(T21,1,3) -> 293 | V21: Manufacture of other parts and accessories for motor vehicles | W21: Acquisition 100% | X21: Completed | Y21: 14142.08 | Z21: 54013.127 | AA21: 56343.227 | AB21: 27885.662 | AC21: 5208.4559 | AD21: 6824.3439 | AE21: 5049.7941 | AF21: 808.53544 | AG21: 6105.1238 | AH21: 6988.4291 | AI21: =Y21/Z21 -> 0.26182672 | AJ21: =VLOOKUP(C21,Richtungsmatrix!$A$2:$E$133,5,FALSE) -> lateral | AK21: KR7017370008 | AL21: Korea Stock Exchange | AM21: KORCOMP | AN21: 41456 | AP21: 41446 | AQ21: 138.77 | AR21: 1806.4 | AS21: 41454 | AT21: 148.15 | AU21: 1844.6 | AV21: 41455 | AW21: 148.15 | AX21: 1844.6 | AY21: 41457 | AZ21: 151.9 | BA21: 1861.26 | BB21: 41458 | BC21: 148.15 | BD21: 1854.29 | BE21: 41466 | BF21: 144.13 | BG21: 1840.34 | BH21: =BF21/AQ21-1 -> 0.038625063 | BI21: =BC21/AT21-1 -> 0 | BJ21: =AZ21/AW21-1 -> 0.025312184 | BK21: =BG21/AR21-1 -> 0.018788751 | BL21: =BD21/AU21-1 -> 0.0052531714 | BM21: =BA21/AX21-1 -> 0.0090317684 | BN21: =BH21-BK21 -> 0.019836312 | BO21: 57 | BP21: =BI21-BL21 -> -0.0052531714 | BQ21: 73 | BR21: =BJ21-BM21 -> 0.016280415 | BS21: 49 | BT21: =AJ21 -> lateral | BU21: =BQ21-BS21 -> 24
A22: 148. | B22: 1907155631 | C22: 2932029320 | D22: 42573 | E22: 42700 | F22: 42500 | G22: ZHEJIANG VIE SCIENCE & TECHNOLOGY CO., LTD | H22: CN | I22: CN40361PC | J22: Automobile braking system and other parts manufacturer | K22: 29320 | L22: =MID(K22,1,3) -> 293 | M22: Manufacture of other parts and accessories for motor vehicles | N22: CNE1000013Y3 | O22: Shenzhen Stock Exchange | P22: ZHEJIANG VIE PUMP-MANU CO., LTD | Q22: CN | S22: Automotive power steering pump equipment manufacturer | T22: 29320 | U22: =MID(T22,1,3) -> 293 | V22: Manufacture of other parts and accessories for motor vehicles | W22: Acquisition 100% | X22: Completed | Y22: 15051.81 | Z22: 1003143 | AA22: 1269783.4 | AB22: n.a. | AC22: 17303.813 | AD22: 12905.643 | AE22: 10073.116 | AF22: 26838.219 | AG22: 19147.493 | AH22: 15456.151 | AI22: =Y22/Z22 -> 0.01500465 | AJ22: =VLOOKUP(C22,Richtungsmatrix!$A$2:$E$133,5,FALSE) -> horizontal | AK22: CNE1000013Y3 | AL22: Shenzhen Stock Exchange | AM22: CN:COM | AN22: 42573 | AP22: 42563 | AQ22: 733.46 | AR22: 1.12 | AS22: 42571 | AT22: 735.17 | AU22: 1.14 | AV22: 42572 | AW22: 724.41 | AX22: 1.14 | AY22: 42574 | AZ22: 743.24 | BA22: 1.15 | BB22: 42575 | BC22: 743.24 | BD22: 1.15 | BE22: 42583 | BF22: 583.29 | BG22: 1.1 | BH22: =BF22/AQ22-1 -> -0.20474191 | BI22: =BC22/AT22-1 -> 0.010977053 | BJ22: =AZ22/AW22-1 -> 0.025993567 | BK22: =BG22/AR22-1 -> -0.017857143 | BL22: =BD22/AU22-1 -> 0.0087719298 | BM22: =BA22/AX22-1 -> 0.0087719298 | BN22: =BH22-BK22 -> -0.18688477 | BO22: 131 | BP22: =BI22-BL22 -> 0.0022051231 | BQ22: 65 | BR22: =BJ22-BM22 -> 0.017221637 | BS22: 47 | BT22: =AJ22 -> horizontal | BU22: =BQ22-BS22 -> 18
A23: 205. | B23: 1633076674 | C23: 2932029320 | D23: 41046 | E23: 41467 | F23: 41046 | G23: ZHEJIANG SHIBAO CO., LTD | H23: CN | I23: CN31346PC | J23: Automobile steering column manufacturer | K23: 29320 | L23: =MID(K23,1,3) -> 293 | M23: Manufacture of other parts and accessories for motor vehicles | N23: CNE1000004W6 | O23: Hong Kong Stock Exchange | P23: CHANGCHUN SHILI AUTOMOTIVE BRAKE PARTS CO., LTD | Q23: CN | S23: Non-asbestos brake pads and parts manufacturer | T23: 29320 | U23: =MID(T23,1,3) -> 293 | V23: Manufacture of other parts and accessories for motor vehicles | W23: Acquisition 90% | X23: Completed | Y23: 1302.13 | Z23: 65971.263 | AA23: 71599.703 | AB23: n.a. | AC23: n.a. | AD23: n.a. | AE23: n.a. | AF23: 180.1733 | AG23: 148.68047 | AH23: n.a. | AI23: =Y23/Z23 -> 0.019737836 | AJ23: =VLOOKUP(C23,Richtungsmatrix!$A$2:$E$133,5,FALSE) -> horizontal | AK23: CNE1000004W6 | AL23: Hong Kong Stock Exchange | AM23: K:HKEX | AN23: 41046 | AP23: 41036 | AQ23: 212.28 | AR23: 122.2 | AS23: 41044 | AT23: 216.83 | AU23: 114.6 | AV23: 41045 | AW23: 204.7 | AX23: 113.1 | AY23: 41047 | AZ23: 215.31 | BA23: 109 | BB23: 41048 | BC23: 215.31 | BD23: 109 | BE23: 41056 | BF23: 219.86 | BG23: 109.6 | BH23: =BF23/AQ23-1 -> 0.035707556 | BI23: =BC23/AT23-1 -> -0.0070101001 | BJ23: =AZ23/AW23-1 -> 0.051831949 | BK23: =BG23/AR23-1 -> -0.10310966 | BL23: =BD23/AU23-1 -> -0.04886562 | BM23: =BA23/AX23-1 -> -0.036251105 | BN23: =BH23-BK23 -> 0.13881721 | BO23: 15 | BP23: =BI23-BL23 -> 0.041855519 | BQ23: 27 | BR23: =BJ23-BM23 -> 0.088083054 | BS23: 10 | BT23: =AJ23 -> horizontal | BU23: =BQ23-BS23 -> 17
A24: 158. | B24: 1909036896 | C24: 2910029201 | D24: 41578 | E24: 41578 | F24: 41578 | G24: THOR INDUSTRIES INC. | H24: US | I24: US930768752 | J24: Caravans and recreational vehicles manufacturer | K24: 29100 | L24: =MID(K24,1,3) -> 291 | M24: Manufacture of motor vehicles | N24: US8851601018 | O24: New York Stock Exchange (NYSE) | P24: BISON COACH LLC'S NET ASSETS | Q24: US | S24: Travel and horse trailers manufacturer | T24: 29201 | U24: =MID(T24,1,3) -> 292 | V24: Manufacture of bodies (coachwork) for motor vehicles (except caravans) | W24: Acquisition 100% | X24: Completed | Y24: 12242 | Z24: 3810852.3 | AA24: n.a. | AB24: n.a. | AC24: n.a. | AD24: n.a. | AE24: n.a. | AF24: n.a. | AG24: n.a. | AH24: n.a. | AI24: =Y24/Z24 -> 0.0032124047 | AJ24: =VLOOKUP(C24,Richtungsmatrix!$A$2:$E$133,5,FALSE) -> vertikal | AK24: US8851601018 | AL24: New York Stock Exchange (NYSE) | AM24: @NDAQ | AN24: 41578 | AP24: 41568 | AQ24: 9907.23 | AR24: 34.1 | AS24: 41576 | AT24: 9971.55 | AU24: 35.79 | AV24: 41577 | AW24: 9834.46 | AX24: 35.94 | AY24: 41579 | AZ24: 9741.38 | BA24: 35.42 | BB24: 41580 | BC24: 9741.38 | BD24: 35.42 | BE24: 41588 | BF24: 9024.9 | BG24: 35.25 | BH24: =BF24/AQ24-1 -> -0.089059202 | BI24: =BC24/AT24-1 -> -0.02308267 | BJ24: =AZ24/AW24-1 -> -0.0094646783 | BK24: =BG24/AR24-1 -> 0.03372434 | BL24: =BD24/AU24-1 -> -0.010338083 | BM24: =BA24/AX24-1 -> -0.014468559 | BN24: =BH24-BK24 -> -0.12278354 | BO24: 124 | BP24: =BI24-BL24 -> -0.012744587 | BQ24: 86 | BR24: =BJ24-BM24 -> 0.0050038804 | BS24: 69 | BT24: =AJ24 -> vertikal | BU24: =BQ24-BS24 -> 17
A25: 218. | B25: 1909025974 | C25: 2932029320 | D25: 41737 | E25: 41884 | F25: 41544 | G25: INTER GROCLIN AUTO SA | H25: PL | I25: PL970679408 | J25: Car upholstery manufacturer | K25: 29320 | L25: =MID(K25,1,3) -> 293 | M25: Manufacture of other parts and accessories for motor vehicles | N25: PLINTGR00013 | O25: Warsaw Stock Exchange | P25: SEATCON AG | Q25: DE | R25: DE7330921239 | S25: Car seats manufacturer | T25: 29320 | U25: =MID(T25,1,3) -> 293 | V25: Manufacture of other parts and accessories for motor vehicles | W25: Acquisition 83.96% | X25: Completed | Y25: 280 | Z25: 42144.701 | AA25: 34096.604 | AB25: 25949.427 | AC25: n.a. | AD25: n.a. | AE25: n.a. | AF25: -3859.0789 | AG25: -5928.7096 | AH25: -2277.8873 | AI25: =Y25/Z25 -> 0.0066437772 | AJ25: =VLOOKUP(C25,Richtungsmatrix!$A$2:$E$133,5,FALSE) -> horizontal | AK25: PLINTGR00013 | AL25: Warsaw Stock Exchange | AM25: PO:GPW | AN25: 41737 | AP25: 41727 | AQ25: 23.22 | AR25: 38.75 | AS25: 41735 | AT25: 23.05 | AU25: 39.8 | AV25: 41736 | AW25: 20.86 | AX25: 38.77 | AY25: 41738 | AZ25: 19.78 | BA25: 38.42 | BB25: 41739 | BC25: 19.25 | BD25: 39.11 | BE25: 41747 | BF25: 17.02 | BG25: 38.1 | BH25: =BF25/AQ25-1 -> -0.2670112 | BI25: =BC25/AT25-1 -> -0.164859 | BJ25: =AZ25/AW25-1 -> -0.05177373 | BK25: =BG25/AR25-1 -> -0.016774194 | BL25: =BD25/AU25-1 -> -0.017336683 | BM25: =BA25/AX25-1 -> -0.0090275987 | BN25: =BH25-BK25 -> -0.250237 | BO25: 133 | BP25: =BI25-BL25 -> -0.14752232 | BQ25: 132 | BR25: =BJ25-BM25 -> -0.042746131 | BS25: 115 | BT25: =AJ25 -> horizontal | BU25: =BQ25-BS25 -> 17
A26: 101. | B26: 1907049197 | C26: 2932025210 | D26: 41925 | E26: 41947 | F26: 40829 | G26: DAYOU AUTOMOTIVE SEAT TECHNOLOGY CO., LTD | H26: KR | I26: KR1115110000136 | J26: Motor vehicle seats manufacturer | K26: 29320 | L26: =MID(K26,1,3) -> 293 | M26: Manufacture of other parts and accessories for motor vehicles | N26: KR7002880003 | O26: Korea Stock Exchange | P26: WINIAMANDO INC. | Q26: KR | R26: KR1648110015300 | S26: Air conditioner manufacturer | T26: 25210 | U26: =MID(T26,1,3) -> 252 | V26: Manufacture of central heating radiators and boilers | W26: Acquisition 60.341% | X26: Completed | Y26: 51749.07 | Z26: 120325.15 | AA26: 156889.28 | AB26: 104791.63 | AC26: 5102.2214 | AD26: 1687.4757 | AE26: 1082.9643 | AF26: 10771.521 | AG26: 9680.4974 | AH26: 4751.6899 | AI26: =Y26/Z26 -> 0.43007693 | AJ26: =VLOOKUP(C26,Richtungsmatrix!$A$2:$E$133,5,FALSE) -> lateral | AK26: KR7002880003 | AL26: Korea Stock Exchange | AM26: KORCOMP | AN26: 41925 | AO26: =AP26-1 -> 41914 | AP26: 41915 | AQ26: 416.5 | AR26: 1984.43 | AS26: 41923 | AT26: 373.16 | AU26: 1953.98 | AV26: 41924 | AW26: 373.16 | AX26: 1953.98 | AY26: 41926 | AZ26: 380.38 | BA26: 1933.45 | BB26: 41927 | BC26: 374.36 | BD26: 1932.11 | BE26: 41935 | BF26: 471.87 | BG26: 1932.43 | BH26: =BF26/AQ26-1 -> 0.13294118 | BI26: =BC26/AT26-1 -> 0.0032157788 | BJ26: =AZ26/AW26-1 -> 0.019348269 | BK26: =BG26/AR26-1 -> -0.026203998 | BL26: =BD26/AU26-1 -> -0.01119254 | BM26: =BA26/AX26-1 -> -0.010506761 | BN26: =BH26-BK26 -> 0.15914517 | BO26: 13 | BP26: =BI26-BL26 -> 0.014408319 | BQ26: 51 | BR26: =BJ26-BM26 -> 0.029855029 | BS26: 35 | BT26: =AJ26 -> lateral | BU26: =BQ26-BS26 -> 16
A27: 210. | B27: 1907024463 | C27: 2920125110 | D27: 41638 | E27: 41648 | F27: 41638 | G27: TMT MOTOR CORPORATION | H27: VN | I27: VN0103014956 | J27: Vans and trucks manufacturer | K27: 29201 | L27: =MID(K27,1,3) -> 292 | M27: Manufacture of bodies (coachwork) for motor vehicles (except caravans) | N27: VN000000TMT9 | O27: HoChiMinh Stock Exchange | P27: 30.4 DESIGN CONSULTING, CONSTRUCTION AND MECHANICAL JOINT STOCK COMPANY | Q27: VN | S27: Construction steel structure manufacturer | T27: 25110 | U27: =MID(T27,1,3) -> 251 | V27: Manufacture of metal structures and parts of structures | W27: Acquisition 68.114% | X27: Completed | Y27: 572 | Z27: 22577.258 | AA27: 65119.316 | AB27: 20054.448 | AC27: 2037.4193 | AD27: 7830.9604 | AE27: 2411.7288 | AF27: 6941.7532 | AG27: 13527.95 | AH27: 4092.4281 | AI27: =Y27/Z27 -> 0.025335229 | AJ27: =VLOOKUP(C27,Richtungsmatrix!$A$2:$E$133,5,FALSE) -> vertikal | AK27: VN000000TMT9 | AL27: HoChiMinh Stock Exchange | AM27: HNX30IN | AN27: 41638 | AP27: 41628 | AQ27: 23.03 | AR27: 129.05 | AS27: 41636 | AT27: 23.03 | AU27: 128.64 | AV27: 41637 | AW27: 23.03 | AX27: 128.64 | AY27: 41639 | AZ27: 22.14 | BA27: 124.96 | BB27: 41640 | BC27: 22.14 | BD27: 127.15 | BE27: 41648 | BF27: 25.24 | BG27: 132.87 | BH27: =BF27/AQ27-1 -> 0.095961789 | BI27: =BC27/AT27-1 -> -0.038645245 | BJ27: =AZ27/AW27-1 -> -0.038645245 | BK27: =BG27/AR27-1 -> 0.02960093 | BL27: =BD27/AU27-1 -> -0.011582711 | BM27: =BA27/AX27-1 -> -0.028606965 | BN27: =BH27-BK27 -> 0.066360859 | BO27: 33 | BP27: =BI27-BL27 -> -0.027062534 | BQ27: 101 | BR27: =BJ27-BM27 -> -0.01003828 | BS27: 86 | BT27: =AJ27 -> vertikal | BU27: =BQ27-BS27 -> 15
A28: 119. | B28: 1601361150 | C28: 6201129320 | D28: 41011 | E28: 41129 | F28: 41011 | G28: ARC WIRELESS SOLUTIONS INC. | H28: US | I28: US870454148 | J28: Wireless software solutions provider | K28: 62011 | L28: =MID(K28,1,3) -> 620 | M28: Ready-made interactive leisure and entertainment software development | N28: US00213H1059 | O28: NASDAQ National Market | P28: ADVANCED FORMING TECHNOLOGY INC. | Q28: US | R28: US149200149L | S28: Metal injection moulding components manufacturer | T28: 29320 | U28: =MID(T28,1,3) -> 293 | V28: Manufacture of other parts and accessories for motor vehicles | W28: Acquisition | X28: Completed | Y28: 34692 | Z28: 41010.976 | AA28: n.a. | AB28: n.a. | AC28: n.a. | AD28: n.a. | AE28: n.a. | AF28: n.a. | AG28: n.a. | AH28: n.a. | AI28: =Y28/Z28 -> 0.84591988 | AJ28: =VLOOKUP(C28,Richtungsmatrix!$A$2:$E$133,5,FALSE) -> lateral | AK28: US00213H1059 | AL28: NASDAQ National Market | AM28: @NDAQ | AN28: 41011 | AP28: 41001 | AQ28: 155 | AR28: 25.82 | AS28: 41009 | AT28: 162.5 | AU28: 25.17 | AV28: 41010 | AW28: 147.5 | AX28: 24.89 | AY28: 41012 | AZ28: 169.95 | BA28: 24.82 | BB28: 41013 | BC28: 169.95 | BD28: 24.82 | BE28: 41021 | BF28: 176.99 | BG28: 24.81 | BH28: =BF28/AQ28-1 -> 0.14187097 | BI28: =BC28/AT28-1 -> 0.045846154 | BJ28: =AZ28/AW28-1 -> 0.15220339 | BK28: =BG28/AR28-1 -> -0.039116964 | BL28: =BD28/AU28-1 -> -0.013905443 | BM28: =BA28/AX28-1 -> -0.0028123744 | BN28: =BH28-BK28 -> 0.18098793 | BO28: 12 | BP28: =BI28-BL28 -> 0.059751597 | BQ28: 20 | BR28: =BJ28-BM28 -> 0.15501576 | BS28: 6 | BT28: =AJ28 -> lateral | BU28: =BQ28-BS28 -> 14
A29: 212. | B29: 1601453439 | C29: 2931029320 | D29: 41340 | E29: 41340 | F29: 41340 | G29: LANDI RENZO SPA | H29: IT | I29: IT00523300358 | J29: Car fuel system manufacturer | K29: 29310 | L29: =MID(K29,1,3) -> 293 | M29: Manufacture of electrical and electronic equipment for motor vehicles | N29: IT0004210289 | O29: Borsa Italiana - MTA (Mercato Telematico Azionario) | P29: EMMEGAS SPA | Q29: IT | R29: IT01545880351 | S29: Automotive methane and LPG fuel valves manufacturer | T29: 29320 | U29: =MID(T29,1,3) -> 293 | V29: Manufacture of other parts and accessories for motor vehicles | W29: Acquisition 70% | X29: Completed | Y29: 475 | Z29: 83756.248 | AA29: 111375 | AB29: 134774.99 | AC29: n.a. | AD29: n.a. | AE29: n.a. | AF29: -22289 | AG29: -10898 | AH29: -10190 | AI29: =Y29/Z29 -> 0.0056712187 | AJ29: =VLOOKUP(C29,Richtungsmatrix!$A$2:$E$133,5,FALSE) -> horizontal | AK29: IT0004210289 | AL29: Borsa Italiana - MTA (Mercato Telematico Azionario) | AM29: FTSEMIB | AN29: 41340 | AP29: 41330 | AQ29: 40.18 | AR29: 16324.95 | AS29: 41338 | AT29: 39.96 | AU29: 15663.65 | AV29: 41339 | AW29: 40.31 | AX29: 15980.46 | AY29: 41341 | AZ29: 41.35 | BA29: 16029.67 | BB29: 41342 | BC29: 41.35 | BD29: 16029.67 | BE29: 41350 | BF29: 40.78 | BG29: 16176.54 | BH29: =BF29/AQ29-1 -> 0.014932802 | BI29: =BC29/AT29-1 -> 0.034784785 | BJ29: =AZ29/AW29-1 -> 0.02580005 | BK29: =BG29/AR29-1 -> -0.0090909926 | BL29: =BD29/AU29-1 -> 0.023367478 | BM29: =BA29/AX29-1 -> 0.0030793857 | BN29: =BH29-BK29 -> 0.024023795 | BO29: 54 | BP29: =BI29-BL29 -> 0.011417307 | BQ29: 55 | BR29: =BJ29-BM29 -> 0.022720664 | BS29: 41 | BT29: =AJ29 -> horizontal | BU29: =BQ29-BS29 -> 14
A30: 144. | B30: 1601395078 | C30: 6512029310 | D30: 41135 | E30: 41135 | F30: 41135 | G30: FIDELITY NATIONAL FINANCIAL INC. | H30: US | I30: US161725106 | J30: Title insurance services holding company | K30: 65120 | L30: =MID(K30,1,3) -> 651 | M30: Non-life insurance | N30: US31620R3030 | O30: New York Stock Exchange (NYSE) | P30: REMY INTERNATIONAL INC. (OLD) | Q30: US | R30: US471744351 | S30: Automotive electrical components manufacturer | T30: 29310 | U30: =MID(T30,1,3) -> 293 | V30: Manufacture of electrical and electronic equipment for motor vehicles | W30: Acquisition increased from 39.2% to 50.2% | X30: Completed | Y30: 17264 | Z30: 8761448.3 | AA30: n.a. | AB30: n.a. | AC30: n.a. | AD30: n.a. | AE30: n.a. | AF30: n.a. | AG30: n.a. | AH30: n.a. | AI30: =Y30/Z30 -> 0.0019704505 | AJ30: =VLOOKUP(C30,Richtungsmatrix!$A$2:$E$133,5,FALSE) -> lateral | AK30: US31620R3030 | AL30: New York Stock Exchange (NYSE) | AM30: @NDAQ | AN30: 41135 | AP30: 41125 | AQ30: 98.69 | AR30: 23.07 | AS30: 41133 | AT30: 100.99 | AU30: 23.2 | AV30: 41134 | AW30: 100.88 | AX30: 23.38 | AY30: 41136 | AZ30: 101.95 | BA30: 23.14 | BB30: 41137 | BC30: 102.06 | BD30: 23.22 | BE30: 41145 | BF30: 101.95 | BG30: 22.76 | BH30: =BF30/AQ30-1 -> 0.033032729 | BI30: =BC30/AT30-1 -> 0.010595108 | BJ30: =AZ30/AW30-1 -> 0.010606661 | BK30: =BG30/AR30-1 -> -0.013437365 | BL30: =BD30/AU30-1 -> 0.00086206897 | BM30: =BA30/AX30-1 -> -0.010265184 | BN30: =BH30-BK30 -> 0.046470093 | BO30: 42 | BP30: =BI30-BL30 -> 0.0097330395 | BQ30: 57 | BR30: =BJ30-BM30 -> 0.020871845 | BS30: 43 | BT30: =AJ30 -> lateral | BU30: =BQ30-BS30 -> 14
A31: 118. | B31: 1601417569 | C31: 3030029320 | D31: 41218 | E31: 41218 | F31: 41218 | G31: SENIOR PLC | H31: GB | I31: GB00282772 | J31: High technology aerospace components and systems manufacturer | K31: 30300 | L31: =MID(K31,1,3) -> 303 | M31: Manufacture of air and spacecraft and related machinery | N31: GB0007958233 | O31: London Stock Exchange | P31: GAMCO ACQUISITION COMPANY | Q31: US | S31: Land vehicle engineered high-precision machined steel components manufacturer holding company | T31: 29320 | U31: =MID(T31,1,3) -> 293 | V31: Manufacture of other parts and accessories for motor vehicles | W31: Acquisition 100% | X31: Completed | Y31: 35098 | Z31: 951068.85 | AA31: 1311344.8 | AB31: 1629600 | AC31: 52984.61 | AD31: 66016.485 | AE31: 81633.116 | AF31: 80177.152 | AG31: 104401.33 | AH31: 118528.71 | AI31: =Y31/Z31 -> 0.036903743 | AJ31: =VLOOKUP(C31,Richtungsmatrix!$A$2:$E$133,5,FALSE) -> lateral | AK31: GB0007958233 | AL31: London Stock Exchange | AM31: FTSE100 | AN31: 41218 | AP31: 41208 | AQ31: 80236.75 | AR31: 5805.05 | AS31: 41216 | AT31: 82907.13 | AU31: 5861.92 | AV31: 41217 | AW31: 82907.13 | AX31: 5861.92 | AY31: 41219 | AZ31: 83741.63 | BA31: 5839.06 | BB31: 41220 | BC31: 83324.38 | BD31: 5884.9 | BE31: 41228 | BF31: 78651.19 | BG31: 5722.01 | BH31: =BF31/AQ31-1 -> -0.01976102 | BI31: =BC31/AT31-1 -> 0.0050327396 | BJ31: =AZ31/AW31-1 -> 0.010065479 | BK31: =BG31/AR31-1 -> -0.014304786 | BL31: =BD31/AU31-1 -> 0.0039202173 | BM31: =BA31/AX31-1 -> -0.0038997462 | BN31: =BH31-BK31 -> -0.0054562334 | BO31: 72 | BP31: =BI31-BL31 -> 0.0011125224 | BQ31: 66 | BR31: =BJ31-BM31 -> 0.013965225 | BS31: 52 | BT31: =AJ31 -> lateral | BU31: =BQ31-BS31 -> 14
A32: 112. | B32: 1909007752 | C32: 2932029320 | D32: 41491 | E32: 41491 | F32: 41441 | G32: SHILOH INDUSTRIES INC. | H32: US | I32: US510347683 | J32: Automotive lightweighting, noise, vibration and harshness solutions manufacturer | K32: 29320 | L32: =MID(K32,1,3) -> 293 | M32: Manufacture of other parts and accessories for motor vehicles | N32: US8245431023 | O32: NASDAQ National Market | P32: CONTECH CASTINGS LLC | Q32: US | R32: US223305902 | S32: Automotive high-pressure aluminum die cast parts manufacturer | T32: 29320 | U32: =MID(T32,1,3) -> 293 | V32: Manufacture of other parts and accessories for motor vehicles | W32: Acquisition 100% | X32: Completed | Y32: 40967 | Z32: 116803.2 | AA32: n.a. | AB32: n.a. | AC32: n.a. | AD32: n.a. | AE32: n.a. | AF32: n.a. | AG32: n.a. | AH32: n.a. | AI32: =Y32/Z32 -> 0.35073527 | AJ32: =VLOOKUP(C32,Richtungsmatrix!$A$2:$E$133,5,FALSE) -> horizontal | AK32: US8245431023 | AL32: NASDAQ National Market | AM32: @NDAQ | AN32: 41491 | AP32: 41481 | AQ32: 161.92 | AR32: 32.95 | AS32: 41489 | AT32: 154.96 | AU32: 33.14 | AV32: 41490 | AW32: 154.96 | AX32: 33.14 | AY32: 41492 | AZ32: 153.59 | BA32: 32.67 | BB32: 41493 | BC32: 150.61 | BD32: 32.49 | BE32: 41501 | BF32: 153.34 | BG32: 31.67 | BH32: =BF32/AQ32-1 -> -0.05298913 | BI32: =BC32/AT32-1 -> -0.02807176 | BJ32: =AZ32/AW32-1 -> -0.0088409912 | BK32: =BG32/AR32-1 -> -0.038846737 | BL32: =BD32/AU32-1 -> -0.01961376 | BM32: =BA32/AX32-1 -> -0.014182257 | BN32: =BH32-BK32 -> -0.014142393 | BO32: 78 | BP32: =BI32-BL32 -> -0.0084580006 | BQ32: 82 | BR32: =BJ32-BM32 -> 0.0053412659 | BS32: 68 | BT32: =AJ32 -> horizontal | BU32: =BQ32-BS32 -> 14
A33: 142. | B33: 1907159003 | C33: 2899029201 | D33: 42520 | E33: 42725 | F33: 42520 | G33: HUNAN JIANGNAN RED ARROW CO., LTD | H33: CN | I33: CN31431PC | J33: Cylinder liner manufacturer | K33: 28990 | L33: =MID(K33,1,3) -> 289 | M33: Manufacture of other special-purpose machinery n.e.c. | N33: CNE000000198 | O33: Shenzhen Stock Exchange | P33: ZHENGZHOU HONGYU SPECIAL VEHICLE CO., LTD | Q33: CN | R33: CN9360245190 | S33: Special purpose vehicles manufacturer | T33: 29201 | U33: =MID(T33,1,3) -> 292 | V33: Manufacture of bodies (coachwork) for motor vehicles (except caravans) | W33: Acquisition 100% | X33: Completed | Y33: 19087.3 | Z33: 882888.68 | AA33: 0 | AB33: n.a. | AC33: n.a. | AD33: n.a. | AE33: n.a. | AF33: 1991.1133 | AG33: -1785.7672 | AH33: 2406.6556 | AI33: =Y33/Z33 -> 0.021619147 | AJ33: =VLOOKUP(C33,Richtungsmatrix!$A$2:$E$133,5,FALSE) -> lateral | AK33: CNE000000198 | AL33: Shenzhen Stock Exchange | AM33: CN:COM | AN33: 42520 | AP33: 42510 | AQ33: 569.12 | AR33: 1.02 | AS33: 42518 | AT33: 558.07 | AU33: 1.04 | AV33: 42519 | AW33: 558.07 | AX33: 1.04 | AY33: 42521 | AZ33: 600.68 | BA33: 1.03 | BB33: 42522 | BC33: 608.04 | BD33: 1.08 | BE33: 42530 | BF33: 610.15 | BG33: 1.09 | BH33: =BF33/AQ33-1 -> 0.072093759 | BI33: =BC33/AT33-1 -> 0.089540739 | BJ33: =AZ33/AW33-1 -> 0.076352429 | BK33: =BG33/AR33-1 -> 0.068627451 | BL33: =BD33/AU33-1 -> 0.038461538 | BM33: =BA33/AX33-1 -> -0.0096153846 | BN33: =BH33-BK33 -> 0.0034663078 | BO33: 67 | BP33: =BI33-BL33 -> 0.0510792 | BQ33: 24 | BR33: =BJ33-BM33 -> 0.085967814 | BS33: 11 | BT33: =AJ33 -> lateral | BU33: =BQ33-BS33 -> 13
A34: 199. | B34: 1909222316 | C34: 2420029310 | D34: 41337 | E34: 41337 | F34: 41337 | G34: TRICORN GROUP PLC | H34: GB | I34: GB01999619 | J34: Pipe and tubing manufacturer | K34: 24200 | L34: =MID(K34,1,3) -> 242 | M34: Manufacture of tubes, pipes, hollow profiles and related fittings, of steel | N34: GB0009716340 | O34: London Stock Exchange | P34: WHITLEY PRODUCTS INC.'S CERTAIN ASSETS | Q34: US | S34: Tubular automotive products manufacturer | T34: 29310 | U34: =MID(T34,1,3) -> 293 | V34: Manufacture of electrical and electronic equipment for motor vehicles | W34: Acquisition 100% | X34: Completed | Y34: 2297 | Z34: 3587.7112 | AA34: n.a. | AB34: n.a. | AC34: n.a. | AD34: n.a. | AE34: n.a. | AF34: -1.5512777 | AG34: n.a. | AH34: n.a. | AI34: =Y34/Z34 -> 0.64024106 | AJ34: =VLOOKUP(C34,Richtungsmatrix!$A$2:$E$133,5,FALSE) -> lateral | AK34: GB0009716340 | AL34: London Stock Exchange | AM34: FTSE100 | AN34: 41337 | AP34: 41327 | AQ34: 72.17 | AR34: 6291.54 | AS34: 41335 | AT34: 72.88 | AU34: 6360.81 | AV34: 41336 | AW34: 72.88 | AX34: 6360.81 | AY34: 41338 | AZ34: 71.45 | BA34: 6345.63 | BB34: 41339 | BC34: 71.45 | BD34: 6431.95 | BE34: 41347 | BF34: 76.45 | BG34: 6481.5 | BH34: =BF34/AQ34-1 -> 0.05930442 | BI34: =BC34/AT34-1 -> -0.019621295 | BJ34: =AZ34/AW34-1 -> -0.019621295 | BK34: =BG34/AR34-1 -> 0.030192926 | BL34: =BD34/AU34-1 -> 0.01118411 | BM34: =BA34/AX34-1 -> -0.0023864885 | BN34: =BH34-BK34 -> 0.029111494 | BO34: 51 | BP34: =BI34-BL34 -> -0.030805405 | BQ34: 107 | BR34: =BJ34-BM34 -> -0.017234807 | BS34: 95 | BT34: =AJ34 -> lateral | BU34: =BQ34-BS34 -> 12
A35: 193. | B35: 1907163041 | C35: 2611029310 | D35: 42558 | E35: 42571 | F35: 42558 | G35: JIANGSU YUNYI ELECTRIC CO., LTD | H35: CN | I35: CN40606PC | J35: Automotive rectifiers, regulators, and diodes manufacturer | K35: 26110 | L35: =MID(K35,1,3) -> 261 | M35: Manufacture of electronic components | N35: CNE100001CX1 | O35: Shenzhen Stock Exchange | P35: SHENZHEN YUNBO TECHNOLOGY ELECTRONICS CO., LTD | Q35: CN | S35: Automotive electronic equipment manufacturer | T35: 29310 | U35: =MID(T35,1,3) -> 293 | V35: Manufacture of electrical and electronic equipment for motor vehicles | W35: Acquisition 85% | X35: Completed | Y35: 3062.85 | Z35: 1201980.9 | AA35: 837660.96 | AB35: 122071.58 | AC35: 15022.692 | AD35: 10000.43 | AE35: 11066.913 | AF35: 13189.305 | AG35: 9282.0508 | AH35: 9477.6187 | AI35: =Y35/Z35 -> 0.0025481685 | AJ35: =VLOOKUP(C35,Richtungsmatrix!$A$2:$E$133,5,FALSE) -> vertikal | AK35: CNE100001CX1 | AL35: Shenzhen Stock Exchange | AM35: CN:COM | AN35: 42558 | AP35: 42548 | AQ35: 302.23 | AR35: 1.07 | AS35: 42556 | AT35: 298.63 | AU35: 1.11 | AV35: 42557 | AW35: 296.83 | AX35: 1.12 | AY35: 42559 | AZ35: 309.23 | BA35: 1.12 | BB35: 42560 | BC35: 309.23 | BD35: 1.12 | BE35: 42568 | BF35: 283.96 | BG35: 1.15 | BH35: =BF35/AQ35-1 -> -0.06045065 | BI35: =BC35/AT35-1 -> 0.035495429 | BJ35: =AZ35/AW35-1 -> 0.041774753 | BK35: =BG35/AR35-1 -> 0.074766355 | BL35: =BD35/AU35-1 -> 0.009009009 | BM35: =BA35/AX35-1 -> 0 | BN35: =BH35-BK35 -> -0.13521701 | BO35: 126 | BP35: =BI35-BL35 -> 0.02648642 | BQ35: 37 | BR35: =BJ35-BM35 -> 0.041774753 | BS35: 26 | BT35: =AJ35 -> vertikal | BU35: =BQ35-BS35 -> 11
A36: 106. | B36: 1909198175 | C36: 7112129201 | D36: 42037 | E36: 42037 | F36: 42037 | G36: BABCOCK INTERNATIONAL GROUP PLC | H36: GB | I36: GB02342138 | J36: Engineering support services | K36: 71121 | L36: =MID(K36,1,3) -> 711 | M36: Engineering design activities for industrial process and production | N36: GB0009697037 | O36: London Stock Exchange | P36: S MACNEILLIE AND SON LTD | Q36: GB | R36: GB00434529 | S36: Armoured vehicle conversion services | T36: 29201 | U36: =MID(T36,1,3) -> 292 | V36: Manufacture of bodies (coachwork) for motor vehicles (except caravans) | W36: Acquisition 100% | X36: Completed | Y36: 48618.99 | Z36: 6056403.8 | AA36: 6801096 | AB36: 5887015.5 | AC36: 362573.56 | AD36: 357928.85 | AE36: 217875.06 | AF36: 480859.07 | AG36: 521486.65 | AH36: 308766.99 | AI36: =Y36/Z36 -> 0.0080276996 | AJ36: =VLOOKUP(C36,Richtungsmatrix!$A$2:$E$133,5,FALSE) -> vertikal | AK36: GB0009697037 | AL36: London Stock Exchange | AM36: FTSE100 | AN36: 42037 | AP36: 42027 | AQ36: 1049.08 | AR36: 6796.63 | AS36: 42035 | AT36: 1002.26 | AU36: 6810.6 | AV36: 42036 | AW36: 1002.26 | AX36: 6810.6 | AY36: 42038 | AZ36: 1030.15 | BA36: 6782.55 | BB36: 42039 | BC36: 1030.15 | BD36: 6871.8 | BE36: 42047 | BF36: 1066.02 | BG36: 6818.17 | BH36: =BF36/AQ36-1 -> 0.016147482 | BI36: =BC36/AT36-1 -> 0.027827111 | BJ36: =AZ36/AW36-1 -> 0.027827111 | BK36: =BG36/AR36-1 -> 0.0031692177 | BL36: =BD36/AU36-1 -> 0.0089859924 | BM36: =BA36/AX36-1 -> -0.0041185799 | BN36: =BH36-BK36 -> 0.012978264 | BO36: 61 | BP36: =BI36-BL36 -> 0.018841118 | BQ36: 43 | BR36: =BJ36-BM36 -> 0.031945691 | BS36: 32 | BT36: =AJ36 -> vertikal | BU36: =BQ36-BS36 -> 11
